BEGIN:VCALENDAR
VERSION:2.0
PRODID:-//US Cars 78 - ECPv6.15.17//NONSGML v1.0//EN
CALSCALE:GREGORIAN
METHOD:PUBLISH
X-WR-CALNAME:US Cars 78
X-ORIGINAL-URL:https://uscars78.fr
X-WR-CALDESC:Évènements pour US Cars 78
REFRESH-INTERVAL;VALUE=DURATION:PT1H
X-Robots-Tag:noindex
X-PUBLISHED-TTL:PT1H
BEGIN:VTIMEZONE
TZID:UTC
BEGIN:STANDARD
TZOFFSETFROM:+0000
TZOFFSETTO:+0000
TZNAME:UTC
DTSTART:20250101T000000
END:STANDARD
END:VTIMEZONE
BEGIN:VEVENT
DTSTART;VALUE=DATE:20260607
DTEND;VALUE=DATE:20260608
DTSTAMP:20260421T171935
CREATED:20260316T101553Z
LAST-MODIFIED:20260316T102352Z
UID:24491-1780790400-1780876799@uscars78.fr
SUMMARY:VERNOUILLET (78540) - Exposition de belles voitures au Rotary - 7 juin 2026
DESCRIPTION:  \nLe club USCARS78 sera présent à cet évènement et exposera ses belles voitures
URL:https://uscars78.fr/event/vernouillet-78540-exposition-de-belles-voitures-au-rotary-07-juin-2026/
CATEGORIES:Caritatif,Sortie
ATTACH;FMTTYPE=image/jpeg:https://uscars78.fr/wp-content/uploads/2026/03/Vernouillet-le-rotary.jpg
END:VEVENT
END:VCALENDAR