BEGIN:VCALENDAR
VERSION:2.0
PRODID:-//US Cars 78 - ECPv6.15.17//NONSGML v1.0//EN
CALSCALE:GREGORIAN
METHOD:PUBLISH
X-ORIGINAL-URL:https://uscars78.fr
X-WR-CALDESC:Évènements pour US Cars 78
REFRESH-INTERVAL;VALUE=DURATION:PT1H
X-Robots-Tag:noindex
X-PUBLISHED-TTL:PT1H
BEGIN:VTIMEZONE
TZID:UTC
BEGIN:STANDARD
TZOFFSETFROM:+0000
TZOFFSETTO:+0000
TZNAME:UTC
DTSTART:20240101T000000
END:STANDARD
END:VTIMEZONE
BEGIN:VEVENT
DTSTART;VALUE=DATE:20250829
DTEND;VALUE=DATE:20250901
DTSTAMP:20260422T005124
CREATED:20250210T163736Z
LAST-MODIFIED:20250210T163736Z
UID:22247-1756425600-1756684799@uscars78.fr
SUMMARY:MEZIDON (14270) - rassemblement international  - 29 au 31 août 2025
DESCRIPTION:USCARS78 participera à ce rassemblement  \n  \nRassemblement International HD V-Rod à Mézidon-Canon
URL:https://uscars78.fr/event/mezidon_rassemblement-international/
CATEGORIES:Sortie
ATTACH;FMTTYPE=image/jpeg:https://uscars78.fr/wp-content/uploads/2025/02/Mezidon_rassemblement-international.jpg
END:VEVENT
END:VCALENDAR