BEGIN:VCALENDAR
VERSION:2.0
PRODID:-//US Cars 78 - ECPv6.15.17//NONSGML v1.0//EN
CALSCALE:GREGORIAN
METHOD:PUBLISH
X-WR-CALNAME:US Cars 78
X-ORIGINAL-URL:https://uscars78.fr
X-WR-CALDESC:Évènements pour US Cars 78
REFRESH-INTERVAL;VALUE=DURATION:PT1H
X-Robots-Tag:noindex
X-PUBLISHED-TTL:PT1H
BEGIN:VTIMEZONE
TZID:UTC
BEGIN:STANDARD
TZOFFSETFROM:+0000
TZOFFSETTO:+0000
TZNAME:UTC
DTSTART:20240101T000000
END:STANDARD
END:VTIMEZONE
BEGIN:VEVENT
DTSTART;VALUE=DATE:20250824
DTEND;VALUE=DATE:20250825
DTSTAMP:20260422T021211
CREATED:20250210T162551Z
LAST-MODIFIED:20250210T162551Z
UID:22244-1755993600-1756079999@uscars78.fr
SUMMARY:BRIONNE (27800) - Américan Synday - 24 août 2025
DESCRIPTION:USCARS78 participera à ce rassemblement 
URL:https://uscars78.fr/event/brionne_americain-synday/
CATEGORIES:Sortie
ATTACH;FMTTYPE=image/jpeg:https://uscars78.fr/wp-content/uploads/2025/02/Brionne-Americain-Synday.jpg
END:VEVENT
END:VCALENDAR