BEGIN:VCALENDAR
VERSION:2.0
PRODID:-//US Cars 78 - ECPv6.15.17//NONSGML v1.0//EN
CALSCALE:GREGORIAN
METHOD:PUBLISH
X-WR-CALNAME:US Cars 78
X-ORIGINAL-URL:https://uscars78.fr
X-WR-CALDESC:Évènements pour US Cars 78
REFRESH-INTERVAL;VALUE=DURATION:PT1H
X-Robots-Tag:noindex
X-PUBLISHED-TTL:PT1H
BEGIN:VTIMEZONE
TZID:UTC
BEGIN:STANDARD
TZOFFSETFROM:+0000
TZOFFSETTO:+0000
TZNAME:UTC
DTSTART:20240101T000000
END:STANDARD
END:VTIMEZONE
BEGIN:VEVENT
DTSTART;VALUE=DATE:20250628
DTEND;VALUE=DATE:20250630
DTSTAMP:20260422T062800
CREATED:20250210T101508Z
LAST-MODIFIED:20250211T144109Z
UID:22221-1751068800-1751241599@uscars78.fr
SUMMARY:MOYAUX (14590) - Le Northmen's cars Festival - La Sacristie - 28 et 29 juin 2025
DESCRIPTION:
URL:https://uscars78.fr/event/moyaux_le-northmens-cars-festival/
CATEGORIES:Rassemblement,Sortie
ATTACH;FMTTYPE=image/jpeg:https://uscars78.fr/wp-content/uploads/2025/02/FB_IMG_17353720437331.jpg
END:VEVENT
END:VCALENDAR