BEGIN:VCALENDAR
VERSION:2.0
PRODID:-//US Cars 78 - ECPv6.15.17//NONSGML v1.0//EN
CALSCALE:GREGORIAN
METHOD:PUBLISH
X-WR-CALNAME:US Cars 78
X-ORIGINAL-URL:https://uscars78.fr
X-WR-CALDESC:Évènements pour US Cars 78
REFRESH-INTERVAL;VALUE=DURATION:PT1H
X-Robots-Tag:noindex
X-PUBLISHED-TTL:PT1H
BEGIN:VTIMEZONE
TZID:UTC
BEGIN:STANDARD
TZOFFSETFROM:+0000
TZOFFSETTO:+0000
TZNAME:UTC
DTSTART:20240101T000000
END:STANDARD
END:VTIMEZONE
BEGIN:VEVENT
DTSTART;VALUE=DATE:20250614
DTEND;VALUE=DATE:20250616
DTSTAMP:20260425T133408
CREATED:20250210T100209Z
LAST-MODIFIED:20250210T104905Z
UID:22218-1749859200-1750031999@uscars78.fr
SUMMARY:NOUATRE (37800) - Americain Days - La Sacristie - 14 et 15 juin2025
DESCRIPTION:USCARS78 participera à ce rassemblement 
URL:https://uscars78.fr/event/nouatre_american-days/
CATEGORIES:Rassemblement,Sortie
ATTACH;FMTTYPE=image/jpeg:https://uscars78.fr/wp-content/uploads/2025/02/FB_IMG_17384848144941.jpg
END:VEVENT
END:VCALENDAR