BEGIN:VCALENDAR
VERSION:2.0
PRODID:-//US Cars 78 - ECPv6.15.17//NONSGML v1.0//EN
CALSCALE:GREGORIAN
METHOD:PUBLISH
X-WR-CALNAME:US Cars 78
X-ORIGINAL-URL:https://uscars78.fr
X-WR-CALDESC:Évènements pour US Cars 78
REFRESH-INTERVAL;VALUE=DURATION:PT1H
X-Robots-Tag:noindex
X-PUBLISHED-TTL:PT1H
BEGIN:VTIMEZONE
TZID:UTC
BEGIN:STANDARD
TZOFFSETFROM:+0000
TZOFFSETTO:+0000
TZNAME:UTC
DTSTART:20250101T000000
END:STANDARD
END:VTIMEZONE
BEGIN:VEVENT
DTSTART;VALUE=DATE:20260424
DTEND;VALUE=DATE:20260428
DTSTAMP:20260424T114749
CREATED:20260120T140531Z
LAST-MODIFIED:20260120T140828Z
UID:24122-1776988800-1777334399@uscars78.fr
SUMMARY:Rallye de printemps 2026 - Saumur du 24 au 27 avril 2026
DESCRIPTION:Rallye de printemps à Saumur\nsamedi 25 avril  \nvisite guidée de l’Ecole Nationale d’équitation du Cadre Noir de Saumur\, \nvisite des caves aux moines et Ackerman \nSpectacle de l’ICE du cadre noir \n  \ndimanche 26 avril  \nvisite du musée des blindés \nvisite de l’abbaye royale de Fontevraud \nvisite de la cave Saint Nicolas de Bourgueil \n 
URL:https://uscars78.fr/event/rallye-de-printemps-2026-saumur-du-24-au-27-avril-2026/
CATEGORIES:Rallye
ATTACH;FMTTYPE=image/jpeg:https://uscars78.fr/wp-content/uploads/2026/01/cabriole.jpg
ORGANIZER;CN="US Cars 78":MAILTO:contact@uscars78.fr
END:VEVENT
END:VCALENDAR